BEGIN:VCALENDAR
VERSION:2.0
PRODID:-//Schulungen &amp; Events | SONAX-ALARM Sicherheitstechnik GmbH - ECPv6.15.11//NONSGML v1.0//EN
CALSCALE:GREGORIAN
METHOD:PUBLISH
X-WR-CALNAME:Schulungen &amp; Events | SONAX-ALARM Sicherheitstechnik GmbH
X-ORIGINAL-URL:https://schulungen.sonax-alarm.de
X-WR-CALDESC:Veranstaltungen für Schulungen &amp; Events | SONAX-ALARM Sicherheitstechnik GmbH
REFRESH-INTERVAL;VALUE=DURATION:PT1H
X-Robots-Tag:noindex
X-PUBLISHED-TTL:PT1H
BEGIN:VTIMEZONE
TZID:Europe/Berlin
BEGIN:DAYLIGHT
TZOFFSETFROM:+0100
TZOFFSETTO:+0200
TZNAME:CEST
DTSTART:20250330T010000
END:DAYLIGHT
BEGIN:STANDARD
TZOFFSETFROM:+0200
TZOFFSETTO:+0100
TZNAME:CET
DTSTART:20251026T010000
END:STANDARD
BEGIN:DAYLIGHT
TZOFFSETFROM:+0100
TZOFFSETTO:+0200
TZNAME:CEST
DTSTART:20260329T010000
END:DAYLIGHT
BEGIN:STANDARD
TZOFFSETFROM:+0200
TZOFFSETTO:+0100
TZNAME:CET
DTSTART:20261025T010000
END:STANDARD
BEGIN:DAYLIGHT
TZOFFSETFROM:+0100
TZOFFSETTO:+0200
TZNAME:CEST
DTSTART:20270328T010000
END:DAYLIGHT
BEGIN:STANDARD
TZOFFSETFROM:+0200
TZOFFSETTO:+0100
TZNAME:CET
DTSTART:20271031T010000
END:STANDARD
END:VTIMEZONE
BEGIN:VEVENT
DTSTART;TZID=Europe/Berlin:20260421T090000
DTEND;TZID=Europe/Berlin:20260423T160000
DTSTAMP:20260423T102700
CREATED:20240424T173719Z
LAST-MODIFIED:20251217T123422Z
UID:10000371-1776762000-1776960000@schulungen.sonax-alarm.de
SUMMARY:System SONAX MBZ
DESCRIPTION:Veranstaltungsort:\n91058 Erlangen\n \nSeminarziel: \nErwerb von Kenntnissen zur Planung und Installation von Brandmeldeanlagen in LSN-Bus Technik sowie Projektierung und erster Inbetriebnahme. \nSeminarinhalt: \n✔ Aufbau der LSN-Brandmeldezentrale FSO 3000/4000 Standard/Premium (AVENAR 2000/8000)\n✔ die verschiedenen LSN-Komponenten\n✔ Programmierung mit der Software RPS\n✔ Triggerbasierte Regel / Block Zustandsbasierte Regel\n✔ Zählerprogrammierung\n✔ einfache Vernetzung der Brandmeldezentralen und Bedienteile\n✔ Diagnose und Fehlersuche im LSN-Bus \nSchulungsgebühr: 750\,00 €
URL:https://schulungen.sonax-alarm.de/event/system-sonax-mbz-3/
LOCATION:➔ 91058 Erlangen\, Wetterkreuz 7
CATEGORIES:System Sonax MBZ
END:VEVENT
BEGIN:VEVENT
DTSTART;TZID=Europe/Berlin:20260506T090000
DTEND;TZID=Europe/Berlin:20260507T160000
DTSTAMP:20260423T102700
CREATED:20240425T100654Z
LAST-MODIFIED:20251112T070004Z
UID:10000377-1778058000-1778169600@schulungen.sonax-alarm.de
SUMMARY:Einbruchmeldeanlage MAP 5000
DESCRIPTION:Einbruchmeldeanlage MAP 5000\n \nSeminarziel:\nErwerb von Kenntnissen zur Planung und Installation von Einbruchmeldeanlagen in LSN-Bus Technik. Projektierung\, Inbetriebnahme und Wartung. \nSeminarinhalt:\n✔ Aufbau der LSN-Einbruchmeldezentrale MAP 5000\n✔ die verschiedenen LSN-Komponenten\n✔ Programmierung mit der Software RPS\n✔ Diagnose und Fehlersuche im LSN-Bus\n✔ praktische Programmierübungen \nSchulungsgebühr: 300\,00 €
URL:https://schulungen.sonax-alarm.de/event/einbruchmeldezentrale-map-5000-lsni/
LOCATION:➔ Ibbenbüren\, Gildestraße 35\, 49477
CATEGORIES:Einbruchmeldezentrale MAP 5000 LSNi
END:VEVENT
BEGIN:VEVENT
DTSTART;TZID=Europe/Berlin:20260519T090000
DTEND;TZID=Europe/Berlin:20260521T160000
DTSTAMP:20260423T102700
CREATED:20240424T174017Z
LAST-MODIFIED:20251006T062815Z
UID:10000374-1779181200-1779379200@schulungen.sonax-alarm.de
SUMMARY:System SONAX MBZ
DESCRIPTION:Seminarziel: \nErwerb von Kenntnissen zur Planung und Installation von Brandmeldeanlagen in LSN-Bus Technik sowie Projektierung und erster Inbetriebnahme. \nSeminarinhalt: \n✔ Aufbau der LSN-Brandmeldezentrale FSO 3000/4000 Standard/Premium (AVENAR 2000/8000)\n✔ die verschiedenen LSN-Komponenten\n✔ Programmierung mit der Software RPS\n✔ Triggerbasierte Regel / Block Zustandsbasierte Regel\n✔ Zählerprogrammierung\n✔ einfache Vernetzung der Brandmeldezentralen und Bedienteile\n✔ Diagnose und Fehlersuche im LSN-Bus \nSchulungsgebühr: 450\,00 €
URL:https://schulungen.sonax-alarm.de/event/system-sonax-mbz-6/
LOCATION:➔ Ibbenbüren\, Gildestraße 35\, 49477
CATEGORIES:System Sonax MBZ
END:VEVENT
BEGIN:VEVENT
DTSTART;TZID=Europe/Berlin:20260522T100000
DTEND;TZID=Europe/Berlin:20260522T110000
DTSTAMP:20260423T102700
CREATED:20250311T121017Z
LAST-MODIFIED:20260302T113523Z
UID:10000396-1779444000-1779447600@schulungen.sonax-alarm.de
SUMMARY:Online-Event SONAX MBZ (FSO)
DESCRIPTION:Online-Event SONAX MBZ (FSO)\n\nVorstellung der Brandmeldezentralen FSO 3000/4000 Standard/Premium \nSeminarinhalt: \n✔ Aufbau der LSN-Brandmeldezentrale FSO 3000/4000 Standard/Premium\n✔ Kennenlernen der verschiedenen LSN-Komponenten\n✔ Einblick in die Planung mit dem Safety Systems Designer \nStellen Sie Ihre Fragen live im Online-Chat und kommen Sie mit uns ins Gespräch;\ngerne auch im Anschluss an das Online-Meeting. \nDie Teilnahme ist kostenlos
URL:https://schulungen.sonax-alarm.de/event/test/
LOCATION:➔ Online
CATEGORIES:Online-Event System Sonax MBZ
END:VEVENT
BEGIN:VEVENT
DTSTART;TZID=Europe/Berlin:20260522T113000
DTEND;TZID=Europe/Berlin:20260522T123000
DTSTAMP:20260423T102700
CREATED:20240611T184605Z
LAST-MODIFIED:20260408T064718Z
UID:10000380-1779449400-1779453000@schulungen.sonax-alarm.de
SUMMARY:Online Event - Safety Systems Designer
DESCRIPTION:Seminarziel: \nKenntnisse zur Planung der FPA/FSO Brandmeldezentralen. Sowie die Einbindung der Ring-Modulen\, Meldern und Kopplern. Ausgabe in Zeichnungsansicht und Stücklistenansicht. \nBeschreibung: \nDer Safety Systems Designer unterstützt das gesamte Produktportfolio zur Rauch- und Branderkennung. Sie können damit komplette Brandmeldeanlagen mit Zentralen\, Ringmodulen und Kopplern sowie konventionellen und adressierbaren Geräten planen. Die Software unterstützt sowohl eigenständige Systeme als auch über mehrere Gebäude verteilte Systemarchitekturen mit bis zu 32 modularen Brandmelderzentralen und bis zu 32 Ringen pro Zentrale. \nGebühr: kostenlos
URL:https://schulungen.sonax-alarm.de/event/online-event-safety-systems-designer-fpa-fso/
LOCATION:➔ Online
CATEGORIES:Safety Systems Designer (FPA/FSO)
END:VEVENT
BEGIN:VEVENT
DTSTART;TZID=Europe/Berlin:20260522T113000
DTEND;TZID=Europe/Berlin:20260522T123000
DTSTAMP:20260423T102700
CREATED:20250211T095451Z
LAST-MODIFIED:20260302T113442Z
UID:10000391-1779449400-1779453000@schulungen.sonax-alarm.de
SUMMARY:Online Event - Brandwarnanlage IRIS
DESCRIPTION:Vorstellung der Brandwarnanlage IRIS4 mit dem Funksystem Natron. \nSeminarinhalt: \n✔ Aufbau und Komponentenauswahl der Brandwarnanlage IRIS\n✔ Planung\, Programmierung und Inbetriebnahme des Funksystems Natron\n✔ Bedienung und Steuerung der IRIS Brandwarnanlage \nStellen Sie Ihre Fragen live im Online-Chat und kommen Sie mit uns ins Gespräch;\ngerne auch im Anschluss an das Online-Meeting. \nDie Teilnahme ist kostenlos
URL:https://schulungen.sonax-alarm.de/event/online-event-brandwarnanlage-iris/
LOCATION:➔ Online
CATEGORIES:Online-Event Brandwarntechnik
END:VEVENT
BEGIN:VEVENT
DTSTART;TZID=Europe/Berlin:20260527T113000
DTEND;TZID=Europe/Berlin:20260527T235900
DTSTAMP:20260423T102700
CREATED:20260105T150209Z
LAST-MODIFIED:20260212T151708Z
UID:10000388-1779881400-1779926340@schulungen.sonax-alarm.de
SUMMARY:Partnerevent
DESCRIPTION:PARTNEREVENT\n \nFreuen Sie sich auf eine außergewöhnliche Veranstaltung im Signal Iduna Stadion. \nAm 27.05.2026 um 11:30 Uhr im Signal Iduna Park.\nStrobelallee 50\, 44139 Dortmund\nRaum: Weisse Wiese 2 (Zugang 71)\n-Parkmöglichkeiten direkt am Stadiongelände- \n📌Darauf können Sie sich freuen: \n🔧 LIVE Vorstellung des Remote‑Service‑Portals „Atradis xGuard“ im Stadion\nin Kooperation mit der Firma TCC als Best Practice \n🆕 Informationen zu neuen Produkten 2026 \n🎤 Impulsvortrag\n  „Was MACHT mit uns macht“\nmit Prof. Dr. Lioba Werth \n🏟️ Exklusive Stadionführung \n⚽ Aktiv werden beim Torwandschießen\n \nAm Abend laden wir Sie zu einem gemütlichen Beisammensein im\nRadisson Blu Hotel in Dortmund ein. \nRadisson Blu Hotel\nAn der Buschmühle 1\n44139 Dortmund \nWir freuen uns darauf\, Sie in der einzigartigen Atmosphäre des SIGNAL IDUNA Parks\nbegrüßen zu dürfen und gemeinsam einen besonderen Tag zu erleben. \nIhr SONAX-ALARM Team \n­Für Übernachtungsmöglichkeiten ist ein Zimmerkontingent\nim Radisson Blu Hotel  reserviert.\nSie können unter der Referenz „SONAX-ALARM“ per Mail: reservations.dortmund@radissonblu.com \noder telefonisch unter 0231 / 1086 669 buchen.
URL:https://schulungen.sonax-alarm.de/event/partnerevent-bosch/
LOCATION:➔ Dortmund
CATEGORIES:Partnerevent BOSCH - SONAX-ALARM
END:VEVENT
BEGIN:VEVENT
DTSTART;TZID=Europe/Berlin:20260609T090000
DTEND;TZID=Europe/Berlin:20260611T160000
DTSTAMP:20260423T102700
CREATED:20240424T173802Z
LAST-MODIFIED:20251006T063002Z
UID:10000372-1780995600-1781193600@schulungen.sonax-alarm.de
SUMMARY:System SONAX MBZ
DESCRIPTION:Seminarziel: \nErwerb von Kenntnissen zur Planung und Installation von Brandmeldeanlagen in LSN-Bus Technik sowie Projektierung und erster Inbetriebnahme. \nSeminarinhalt: \n✔ Aufbau der LSN-Brandmeldezentrale FSO 3000/4000 Standard/Premium (AVENAR 2000/8000)\n✔ die verschiedenen LSN-Komponenten\n✔ Programmierung mit der Software RPS\n✔ Triggerbasierte Regel / Block Zustandsbasierte Regel\n✔ Zählerprogrammierung\n✔ einfache Vernetzung der Brandmeldezentralen und Bedienteile\n✔ Diagnose und Fehlersuche im LSN-Bus \nSchulungsgebühr: 450\,00 €
URL:https://schulungen.sonax-alarm.de/event/system-sonax-mbz-4/
LOCATION:➔ Ibbenbüren\, Gildestraße 35\, 49477
CATEGORIES:System Sonax MBZ
END:VEVENT
BEGIN:VEVENT
DTSTART;TZID=Europe/Berlin:20260702T090000
DTEND;TZID=Europe/Berlin:20260702T160000
DTSTAMP:20260423T102700
CREATED:20260129T140153Z
LAST-MODIFIED:20260209T102407Z
UID:10000401-1782982800-1783008000@schulungen.sonax-alarm.de
SUMMARY:Planungs- und Projektierung von Brandmeldeanlagen
DESCRIPTION:Planungs- und Projektierung von Brandmeldeanlagen\n  \nSeminarziel:\nDiese Schulung vermittelt die normativen Grundlagen zur Planung und Projektierung einer Brandmeldeanlage anhand der DIN VDE 0833-2 und DIN 14675.\nDie Schulung enthält alle relevanten Informationen zur Projektierung eines Brandmeldesystems und befähigt Planer und Projektleiter für die Phase 6.2 gem. DIN 14675. \nSeminarinhalt:\n✔ Gesetzliche Grundlagen und Anforderungen an Brandmeldeanlagen\n✔ Grundlagen der Brandentstehung\n✔ Aufbau eines Brandmeldesystems (Brandmelder\, Brandmelderzentrale\, FIBS\, FAT\, FBF\, FSD\, Signalgeber\, usw.)\n✔ Planung von Signalgebern und Brandschutzgehäuse gemäß MLAR\n✔ Hinweise und Besonderheiten zur Planung nach DIN VDE 0833-2 und DIN 14675 \nSchulungsgebühr: 300\,00 €
URL:https://schulungen.sonax-alarm.de/event/planungs-und-projektierung-brandmeldeanlagen/
LOCATION:➔ Ibbenbüren\, Gildestraße 35\, 49477
CATEGORIES:Planungs- und Projektierung Brandmeldetechnik
END:VEVENT
BEGIN:VEVENT
DTSTART;TZID=Europe/Berlin:20260703T100000
DTEND;TZID=Europe/Berlin:20260703T110000
DTSTAMP:20260423T102700
CREATED:20240611T184745Z
LAST-MODIFIED:20260302T114640Z
UID:10000381-1783072800-1783076400@schulungen.sonax-alarm.de
SUMMARY:Online Event - Safety Systems Designer
DESCRIPTION:Seminarziel: \nKenntnisse zur Planung der FPA/FSO Brandmeldezentralen. Sowie die Einbindung der Ring-Modulen\, Meldern und Kopplern. Ausgabe in Zeichnungsansicht und Stücklistenansicht. \nBeschreibung: \nDer Safety Systems Designer unterstützt das gesamte Produktportfolio zur Rauch- und Branderkennung. Sie können damit komplette Brandmeldeanlagen mit Zentralen\, Ringmodulen und Kopplern sowie konventionellen und adressierbaren Geräten planen. Die Software unterstützt sowohl eigenständige Systeme als auch über mehrere Gebäude verteilte Systemarchitekturen mit bis zu 32 modularen Brandmelderzentralen und bis zu 32 Ringen pro Zentrale. \nGebühr: kostenlos
URL:https://schulungen.sonax-alarm.de/event/online-event-safety-systems-designer-fpa-fso-2/
LOCATION:➔ Online
CATEGORIES:Safety Systems Designer (FPA/FSO)
END:VEVENT
BEGIN:VEVENT
DTSTART;TZID=Europe/Berlin:20260707T090000
DTEND;TZID=Europe/Berlin:20260707T160000
DTSTAMP:20260423T102700
CREATED:20240611T182937Z
LAST-MODIFIED:20260323T113735Z
UID:10000378-1783414800-1783440000@schulungen.sonax-alarm.de
SUMMARY:Brandwarnanlage IRIS
DESCRIPTION:Seminarziel: \n \nErwerb von Kenntnissen zur Programmierung der Brandwarnanlage IRIS4/8 mit der Programmiersoftware ProsTE und des Funksystems Natron. \nSeminarinhalt: \n✔ Aufbau und Komponentenauswahl der Brandwarnanlage\n✔ Planung\, Programmierung des Funksystems Natron\n✔ Programmierung mit der Software ProsTE\n✔ Bedienung und Steuerung der IRIS Brandwarnanlage\n✔ Diagnose und Fehlersuche im TTE Loop – praktische Programmierübungen \nSchulungsgebühr: 150\,00 €
URL:https://schulungen.sonax-alarm.de/event/brandwarnanlage-iris/
LOCATION:➔ Ibbenbüren\, Gildestraße 35\, 49477
CATEGORIES:Brandwarnanlage IRIS
END:VEVENT
BEGIN:VEVENT
DTSTART;TZID=Europe/Berlin:20260712T100000
DTEND;TZID=Europe/Berlin:20260712T113000
DTSTAMP:20260423T102700
CREATED:20260130T081204Z
LAST-MODIFIED:20260130T100356Z
UID:10000403-1783850400-1783855800@schulungen.sonax-alarm.de
SUMMARY:Online Event System SONAX FireCore
DESCRIPTION:Online Event System FireCore
URL:https://schulungen.sonax-alarm.de/event/online-event-system-sonax-firecore/
CATEGORIES:Online-Event System SONAX FireCore
END:VEVENT
BEGIN:VEVENT
DTSTART;TZID=Europe/Berlin:20260721T090000
DTEND;TZID=Europe/Berlin:20260723T160000
DTSTAMP:20260423T102700
CREATED:20250211T085246Z
LAST-MODIFIED:20260121T145919Z
UID:10000390-1784624400-1784822400@schulungen.sonax-alarm.de
SUMMARY:System SONAX MBZ
DESCRIPTION:Seminarziel: \nErwerb von Kenntnissen zur Planung und Installation von Brandmeldeanlagen in LSN-Bus Technik sowie Projektierung und erster Inbetriebnahme. \nSeminarinhalt: \n✔ Aufbau der LSN-Brandmeldezentrale FSO 3000/4000 Standard/Premium (AVENAR 2000/8000)\n✔ die verschiedenen LSN-Komponenten\n✔ Programmierung mit der Software RPS\n✔ Triggerbasierte Regel / Block Zustandsbasierte Regel\n✔ Zählerprogrammierung\n✔ einfache Vernetzung der Brandmeldezentralen und Bedienteile\n✔ Diagnose und Fehlersuche im LSN-Bus \nSchulungsgebühr: 450\,00 €
URL:https://schulungen.sonax-alarm.de/event/system-sonax-mbz-8/
LOCATION:➔ Ibbenbüren\, Gildestraße 35\, 49477
CATEGORIES:System Sonax MBZ
END:VEVENT
BEGIN:VEVENT
DTSTART;TZID=Europe/Berlin:20260814T100000
DTEND;TZID=Europe/Berlin:20260814T110000
DTSTAMP:20260423T102700
CREATED:20250331T082831Z
LAST-MODIFIED:20260302T114244Z
UID:10000399-1786701600-1786705200@schulungen.sonax-alarm.de
SUMMARY:Online-Event SONAX MBZ (FSO)
DESCRIPTION:Online-Event SONAX MBZ (FSO)\n\nVorstellung der Brandmeldezentralen FSO 3000/4000 Standard/Premium \nSeminarinhalt: \n✔ Aufbau der LSN-Brandmeldezentrale FSO 3000/4000 Standard/Premium\n✔ Kennenlernen der verschiedenen LSN-Komponenten\n✔ Einblick in die Planung mit dem Safety Systems Designer \nStellen Sie Ihre Fragen live im Online-Chat und kommen Sie mit uns ins Gespräch;\ngerne auch im Anschluss an das Online-Meeting. \nDie Teilnahme ist kostenlos
URL:https://schulungen.sonax-alarm.de/event/online-event-sonax-mbz-fso-2/
LOCATION:➔ Online
CATEGORIES:Online-Event System Sonax MBZ
END:VEVENT
BEGIN:VEVENT
DTSTART;TZID=Europe/Berlin:20260814T113000
DTEND;TZID=Europe/Berlin:20260814T123000
DTSTAMP:20260423T102700
CREATED:20250211T100000Z
LAST-MODIFIED:20260302T114044Z
UID:10000393-1786707000-1786710600@schulungen.sonax-alarm.de
SUMMARY:Online Event - Brandwarnanlage IRIS
DESCRIPTION:Vorstellung der Brandwarnanlage IRIS4 mit dem Funksystem Natron. \nSeminarinhalt: \n✔ Aufbau und Komponentenauswahl der Brandwarnanlage IRIS\n✔ Planung\, Programmierung und Inbetriebnahme des Funksystems Natron\n✔ Bedienung und Steuerung der IRIS Brandwarnanlage \nStellen Sie Ihre Fragen live im Online-Chat und kommen Sie mit uns ins Gespräch;\ngerne auch im Anschluss an das Online-Meeting. \nDie Teilnahme ist kostenlos
URL:https://schulungen.sonax-alarm.de/event/online-event-brandwarnanlage-iris-2/
LOCATION:➔ Online
CATEGORIES:Online-Event Brandwarntechnik
END:VEVENT
BEGIN:VEVENT
DTSTART;TZID=Europe/Berlin:20260908T090000
DTEND;TZID=Europe/Berlin:20260910T160000
DTSTAMP:20260423T102700
CREATED:20240424T174035Z
LAST-MODIFIED:20260421T124226Z
UID:10000375-1788858000-1789056000@schulungen.sonax-alarm.de
SUMMARY:System SONAX MBZ
DESCRIPTION:Seminarziel: \nErwerb von Kenntnissen zur Planung und Installation von Brandmeldeanlagen in LSN-Bus Technik sowie Projektierung und erster Inbetriebnahme. \nSeminarinhalt: \n✔ Aufbau der LSN-Brandmeldezentrale FSO 3000/4000 Standard/Premium (AVENAR 2000/8000)\n✔ die verschiedenen LSN-Komponenten\n✔ Programmierung mit der Software RPS\n✔ Triggerbasierte Regel / Block Zustandsbasierte Regel\n✔ Zählerprogrammierung\n✔ einfache Vernetzung der Brandmeldezentralen und Bedienteile\n✔ Diagnose und Fehlersuche im LSN-Bus \nSchulungsgebühr: 450\,00 €
URL:https://schulungen.sonax-alarm.de/event/system-sonax-mbz-7/
LOCATION:➔ Ibbenbüren\, Gildestraße 35\, 49477
CATEGORIES:System Sonax MBZ
END:VEVENT
BEGIN:VEVENT
DTSTART;TZID=Europe/Berlin:20260915T090000
DTEND;TZID=Europe/Berlin:20260916T160000
DTSTAMP:20260423T102700
CREATED:20240816T060616Z
LAST-MODIFIED:20260209T105123Z
UID:10000384-1789462800-1789574400@schulungen.sonax-alarm.de
SUMMARY:Einbruchmeldeanlage MAP 5000
DESCRIPTION:Einbruchmeldeanlage MAP 5000\n \nSeminarziel:\nErwerb von Kenntnissen zur Planung und Installation von Einbruchmeldeanlagen in LSN-Bus Technik. Projektierung\, Inbetriebnahme und Wartung. \nSeminarinhalt:\n✔ Aufbau der LSN-Einbruchmeldezentrale MAP 5000\n✔ die verschiedenen LSN-Komponenten\n✔ Programmierung mit der Software RPS\n✔ Diagnose und Fehlersuche im LSN-Bus\n✔ praktische Programmierübungen \nSchulungsgebühr: 300\,00 €
URL:https://schulungen.sonax-alarm.de/event/einbruchmeldeanlage-map-5000/
LOCATION:➔ Ibbenbüren\, Gildestraße 35\, 49477
CATEGORIES:Einbruchmeldezentrale MAP 5000 LSNi
END:VEVENT
BEGIN:VEVENT
DTSTART;TZID=Europe/Berlin:20261105T090000
DTEND;TZID=Europe/Berlin:20261105T160000
DTSTAMP:20260423T102700
CREATED:20260129T150920Z
LAST-MODIFIED:20260209T102501Z
UID:10000402-1793869200-1793894400@schulungen.sonax-alarm.de
SUMMARY:Planungs- und Projektierung von Brandmeldeanlagen
DESCRIPTION:Planungs- und Projektierung von Brandmeldeanlagen\n  \nSeminarziel:Diese Schulung vermittelt die normativen Grundlagen zur Planung und Projektierung einer Brandmeldeanlage anhand der DIN VDE 0833-2 und DIN 14675.Die Schulung enthält alle relevanten Informationen zur Projektierung eines Brandmeldesystems und befähigt Planer und Projektleiter für die Phase 6.2 gem. DIN 14675. \nSeminarinhalt:✔ Gesetzliche Grundlagen und Anforderungen an Brandmeldeanlagen✔ Grundlagen der Brandentstehung✔ Aufbau eines Brandmeldesystems (Brandmelder\, Brandmelderzentrale\, FIBS\, FAT\, FBF\, FSD\, Signalgeber\, usw.)✔ Planung von Signalgebern und Brandschutzgehäuse gemäß MLAR✔ Hinweise und Besonderheiten zur Planung nach DIN VDE 0833-2 und DIN 14675 \nSchulungsgebühr: 300\,00 €
URL:https://schulungen.sonax-alarm.de/event/planungs-und-projektierung-brandmeldeanlagen-2/
LOCATION:➔ Ibbenbüren\, Gildestraße 35\, 49477
CATEGORIES:Planungs- und Projektierung Brandmeldetechnik
END:VEVENT
END:VCALENDAR